{
 "currentVersion": 10.6,
 "serviceDescription": "Layer for public website of cached map labels.",
 "mapName": "Layers",
 "description": "",
 "copyrightText": "",
 "supportsDynamicLayers": false,
 "layers": [
  {
   "id": 0,
   "name": "Townships_94k",
   "parentLayerId": -1,
   "defaultVisibility": true,
   "subLayerIds": [
    1
   ],
   "minScale": 0,
   "maxScale": 93000
  },
  {
   "id": 1,
   "name": "Default",
   "parentLayerId": 0,
   "defaultVisibility": true,
   "subLayerIds": null,
   "minScale": 0,
   "maxScale": 0
  },
  {
   "id": 2,
   "name": "Townships_55k",
   "parentLayerId": -1,
   "defaultVisibility": true,
   "subLayerIds": [
    3
   ],
   "minScale": 56000,
   "maxScale": 54000
  },
  {
   "id": 3,
   "name": "Default",
   "parentLayerId": 2,
   "defaultVisibility": true,
   "subLayerIds": null,
   "minScale": 0,
   "maxScale": 0
  },
  {
   "id": 4,
   "name": "Townships_38k",
   "parentLayerId": -1,
   "defaultVisibility": true,
   "subLayerIds": [
    5
   ],
   "minScale": 38500,
   "maxScale": 38300
  },
  {
   "id": 5,
   "name": "Default",
   "parentLayerId": 4,
   "defaultVisibility": true,
   "subLayerIds": null,
   "minScale": 0,
   "maxScale": 0
  },
  {
   "id": 6,
   "name": "Townships_19k",
   "parentLayerId": -1,
   "defaultVisibility": true,
   "subLayerIds": [
    7
   ],
   "minScale": 19300,
   "maxScale": 19100
  },
  {
   "id": 7,
   "name": "Default",
   "parentLayerId": 6,
   "defaultVisibility": true,
   "subLayerIds": null,
   "minScale": 0,
   "maxScale": 0
  },
  {
   "id": 8,
   "name": "Townships_9k",
   "parentLayerId": -1,
   "defaultVisibility": true,
   "subLayerIds": [
    9
   ],
   "minScale": 9700,
   "maxScale": 9500
  },
  {
   "id": 9,
   "name": "Default",
   "parentLayerId": 8,
   "defaultVisibility": true,
   "subLayerIds": null,
   "minScale": 0,
   "maxScale": 0
  },
  {
   "id": 10,
   "name": "Townships_4k",
   "parentLayerId": -1,
   "defaultVisibility": true,
   "subLayerIds": [
    11
   ],
   "minScale": 4900,
   "maxScale": 4700
  },
  {
   "id": 11,
   "name": "Default",
   "parentLayerId": 10,
   "defaultVisibility": true,
   "subLayerIds": null,
   "minScale": 0,
   "maxScale": 0
  },
  {
   "id": 12,
   "name": "Townships_2k",
   "parentLayerId": -1,
   "defaultVisibility": true,
   "subLayerIds": [
    13
   ],
   "minScale": 2500,
   "maxScale": 2300
  },
  {
   "id": 13,
   "name": "Default",
   "parentLayerId": 12,
   "defaultVisibility": true,
   "subLayerIds": null,
   "minScale": 0,
   "maxScale": 0
  },
  {
   "id": 14,
   "name": "Townships_1k",
   "parentLayerId": -1,
   "defaultVisibility": true,
   "subLayerIds": [
    15
   ],
   "minScale": 1300,
   "maxScale": 1100
  },
  {
   "id": 15,
   "name": "Default",
   "parentLayerId": 14,
   "defaultVisibility": true,
   "subLayerIds": null,
   "minScale": 0,
   "maxScale": 0
  },
  {
   "id": 16,
   "name": "Townships_600",
   "parentLayerId": -1,
   "defaultVisibility": true,
   "subLayerIds": [
    17
   ],
   "minScale": 700,
   "maxScale": 500
  },
  {
   "id": 17,
   "name": "Default",
   "parentLayerId": 16,
   "defaultVisibility": true,
   "subLayerIds": null,
   "minScale": 0,
   "maxScale": 0
  },
  {
   "id": 18,
   "name": "Cities_94k",
   "parentLayerId": -1,
   "defaultVisibility": true,
   "subLayerIds": [
    19
   ],
   "minScale": 95000,
   "maxScale": 93000
  },
  {
   "id": 19,
   "name": "Default",
   "parentLayerId": 18,
   "defaultVisibility": true,
   "subLayerIds": null,
   "minScale": 0,
   "maxScale": 0
  },
  {
   "id": 20,
   "name": "Cities_55k",
   "parentLayerId": -1,
   "defaultVisibility": true,
   "subLayerIds": [
    21
   ],
   "minScale": 56000,
   "maxScale": 54000
  },
  {
   "id": 21,
   "name": "Default",
   "parentLayerId": 20,
   "defaultVisibility": true,
   "subLayerIds": null,
   "minScale": 0,
   "maxScale": 0
  },
  {
   "id": 22,
   "name": "Cities_38k",
   "parentLayerId": -1,
   "defaultVisibility": true,
   "subLayerIds": [
    23
   ],
   "minScale": 39400,
   "maxScale": 37400
  },
  {
   "id": 23,
   "name": "Default",
   "parentLayerId": 22,
   "defaultVisibility": true,
   "subLayerIds": null,
   "minScale": 0,
   "maxScale": 0
  },
  {
   "id": 24,
   "name": "Cities_19k",
   "parentLayerId": -1,
   "defaultVisibility": true,
   "subLayerIds": [
    25
   ],
   "minScale": 19300,
   "maxScale": 19100
  },
  {
   "id": 25,
   "name": "Default",
   "parentLayerId": 24,
   "defaultVisibility": true,
   "subLayerIds": null,
   "minScale": 0,
   "maxScale": 0
  },
  {
   "id": 26,
   "name": "Cities_9k",
   "parentLayerId": -1,
   "defaultVisibility": true,
   "subLayerIds": [
    27
   ],
   "minScale": 9700,
   "maxScale": 9500
  },
  {
   "id": 27,
   "name": "Default",
   "parentLayerId": 26,
   "defaultVisibility": true,
   "subLayerIds": null,
   "minScale": 0,
   "maxScale": 0
  },
  {
   "id": 28,
   "name": "Cities_4k",
   "parentLayerId": -1,
   "defaultVisibility": true,
   "subLayerIds": [
    29
   ],
   "minScale": 4900,
   "maxScale": 4700
  },
  {
   "id": 29,
   "name": "Default",
   "parentLayerId": 28,
   "defaultVisibility": true,
   "subLayerIds": null,
   "minScale": 0,
   "maxScale": 0
  },
  {
   "id": 30,
   "name": "Cities_2k",
   "parentLayerId": -1,
   "defaultVisibility": true,
   "subLayerIds": [
    31
   ],
   "minScale": 2500,
   "maxScale": 2300
  },
  {
   "id": 31,
   "name": "Default",
   "parentLayerId": 30,
   "defaultVisibility": true,
   "subLayerIds": null,
   "minScale": 0,
   "maxScale": 0
  },
  {
   "id": 32,
   "name": "Cities_1k",
   "parentLayerId": -1,
   "defaultVisibility": true,
   "subLayerIds": [
    33
   ],
   "minScale": 1300,
   "maxScale": 1100
  },
  {
   "id": 33,
   "name": "Default",
   "parentLayerId": 32,
   "defaultVisibility": true,
   "subLayerIds": null,
   "minScale": 0,
   "maxScale": 0
  },
  {
   "id": 34,
   "name": "Cities_600",
   "parentLayerId": -1,
   "defaultVisibility": true,
   "subLayerIds": [
    35
   ],
   "minScale": 700,
   "maxScale": 500
  },
  {
   "id": 35,
   "name": "Default",
   "parentLayerId": 34,
   "defaultVisibility": true,
   "subLayerIds": null,
   "minScale": 0,
   "maxScale": 0
  },
  {
   "id": 36,
   "name": "Rivers_94kAnno",
   "parentLayerId": -1,
   "defaultVisibility": true,
   "subLayerIds": [
    37
   ],
   "minScale": 0,
   "maxScale": 93000
  },
  {
   "id": 37,
   "name": "Default",
   "parentLayerId": 36,
   "defaultVisibility": true,
   "subLayerIds": null,
   "minScale": 0,
   "maxScale": 0
  },
  {
   "id": 38,
   "name": "Rivers_55kAnno",
   "parentLayerId": -1,
   "defaultVisibility": true,
   "subLayerIds": [
    39
   ],
   "minScale": 56000,
   "maxScale": 54000
  },
  {
   "id": 39,
   "name": "Default",
   "parentLayerId": 38,
   "defaultVisibility": true,
   "subLayerIds": null,
   "minScale": 0,
   "maxScale": 0
  },
  {
   "id": 40,
   "name": "Rivers_38kAnno",
   "parentLayerId": -1,
   "defaultVisibility": true,
   "subLayerIds": [
    41
   ],
   "minScale": 38500,
   "maxScale": 38300
  },
  {
   "id": 41,
   "name": "Default",
   "parentLayerId": 40,
   "defaultVisibility": true,
   "subLayerIds": null,
   "minScale": 0,
   "maxScale": 0
  },
  {
   "id": 42,
   "name": "RiversDrains_19kAnno",
   "parentLayerId": -1,
   "defaultVisibility": true,
   "subLayerIds": [
    43
   ],
   "minScale": 19300,
   "maxScale": 19100
  },
  {
   "id": 43,
   "name": "Default",
   "parentLayerId": 42,
   "defaultVisibility": true,
   "subLayerIds": null,
   "minScale": 0,
   "maxScale": 0
  },
  {
   "id": 44,
   "name": "RiversDrains_9kAnno",
   "parentLayerId": -1,
   "defaultVisibility": true,
   "subLayerIds": [
    45
   ],
   "minScale": 9700,
   "maxScale": 9500
  },
  {
   "id": 45,
   "name": "Default",
   "parentLayerId": 44,
   "defaultVisibility": true,
   "subLayerIds": null,
   "minScale": 0,
   "maxScale": 0
  },
  {
   "id": 46,
   "name": "RiversDrains_4kAnno",
   "parentLayerId": -1,
   "defaultVisibility": true,
   "subLayerIds": [
    47
   ],
   "minScale": 4900,
   "maxScale": 4700
  },
  {
   "id": 47,
   "name": "Default",
   "parentLayerId": 46,
   "defaultVisibility": true,
   "subLayerIds": null,
   "minScale": 0,
   "maxScale": 0
  },
  {
   "id": 48,
   "name": "RiversDrains_2kAnno",
   "parentLayerId": -1,
   "defaultVisibility": true,
   "subLayerIds": [
    49
   ],
   "minScale": 2500,
   "maxScale": 2300
  },
  {
   "id": 49,
   "name": "Default",
   "parentLayerId": 48,
   "defaultVisibility": true,
   "subLayerIds": null,
   "minScale": 0,
   "maxScale": 0
  },
  {
   "id": 50,
   "name": "RiversDrains_1kAnno",
   "parentLayerId": -1,
   "defaultVisibility": true,
   "subLayerIds": [
    51
   ],
   "minScale": 1300,
   "maxScale": 1100
  },
  {
   "id": 51,
   "name": "Default",
   "parentLayerId": 50,
   "defaultVisibility": true,
   "subLayerIds": null,
   "minScale": 0,
   "maxScale": 0
  },
  {
   "id": 52,
   "name": "RiversDrains_600Anno",
   "parentLayerId": -1,
   "defaultVisibility": true,
   "subLayerIds": [
    53
   ],
   "minScale": 700,
   "maxScale": 500
  },
  {
   "id": 53,
   "name": "Default",
   "parentLayerId": 52,
   "defaultVisibility": true,
   "subLayerIds": null,
   "minScale": 0,
   "maxScale": 0
  },
  {
   "id": 54,
   "name": "Delhi_2Mile_Buffer_Roads2Anno_55k",
   "parentLayerId": -1,
   "defaultVisibility": true,
   "subLayerIds": [
    55
   ],
   "minScale": 56000,
   "maxScale": 54000
  },
  {
   "id": 55,
   "name": "Default",
   "parentLayerId": 54,
   "defaultVisibility": true,
   "subLayerIds": null,
   "minScale": 0,
   "maxScale": 0
  },
  {
   "id": 56,
   "name": "StreetsAnno_55k",
   "parentLayerId": -1,
   "defaultVisibility": true,
   "subLayerIds": [
    57
   ],
   "minScale": 56000,
   "maxScale": 54000
  },
  {
   "id": 57,
   "name": "Default",
   "parentLayerId": 56,
   "defaultVisibility": true,
   "subLayerIds": null,
   "minScale": 0,
   "maxScale": 0
  },
  {
   "id": 58,
   "name": "StreetsAnno_38K",
   "parentLayerId": -1,
   "defaultVisibility": true,
   "subLayerIds": [
    59
   ],
   "minScale": 38500,
   "maxScale": 38300
  },
  {
   "id": 59,
   "name": "Default",
   "parentLayerId": 58,
   "defaultVisibility": true,
   "subLayerIds": null,
   "minScale": 0,
   "maxScale": 19100
  },
  {
   "id": 60,
   "name": "StreetsAnno_19K",
   "parentLayerId": -1,
   "defaultVisibility": true,
   "subLayerIds": [
    61
   ],
   "minScale": 19300,
   "maxScale": 19100
  },
  {
   "id": 61,
   "name": "Default",
   "parentLayerId": 60,
   "defaultVisibility": true,
   "subLayerIds": null,
   "minScale": 0,
   "maxScale": 19100
  },
  {
   "id": 62,
   "name": "StreetsAnno_9K",
   "parentLayerId": -1,
   "defaultVisibility": true,
   "subLayerIds": [
    63
   ],
   "minScale": 9700,
   "maxScale": 9500
  },
  {
   "id": 63,
   "name": "Default",
   "parentLayerId": 62,
   "defaultVisibility": true,
   "subLayerIds": null,
   "minScale": 0,
   "maxScale": 0
  },
  {
   "id": 64,
   "name": "StreetsAnno_4K",
   "parentLayerId": -1,
   "defaultVisibility": true,
   "subLayerIds": [
    65
   ],
   "minScale": 4900,
   "maxScale": 4700
  },
  {
   "id": 65,
   "name": "Default",
   "parentLayerId": 64,
   "defaultVisibility": true,
   "subLayerIds": null,
   "minScale": 0,
   "maxScale": 0
  },
  {
   "id": 66,
   "name": "StreetsAnno_2K",
   "parentLayerId": -1,
   "defaultVisibility": true,
   "subLayerIds": [
    67
   ],
   "minScale": 2500,
   "maxScale": 2300
  },
  {
   "id": 67,
   "name": "Default",
   "parentLayerId": 66,
   "defaultVisibility": true,
   "subLayerIds": null,
   "minScale": 0,
   "maxScale": 0
  },
  {
   "id": 68,
   "name": "StreetsAnno_1K",
   "parentLayerId": -1,
   "defaultVisibility": true,
   "subLayerIds": [
    69
   ],
   "minScale": 1300,
   "maxScale": 1100
  },
  {
   "id": 69,
   "name": "Default",
   "parentLayerId": 68,
   "defaultVisibility": true,
   "subLayerIds": null,
   "minScale": 0,
   "maxScale": 0
  },
  {
   "id": 70,
   "name": "Schools_Anno_38k",
   "parentLayerId": -1,
   "defaultVisibility": true,
   "subLayerIds": [
    71
   ],
   "minScale": 0,
   "maxScale": 0
  },
  {
   "id": 71,
   "name": "Schools",
   "parentLayerId": 70,
   "defaultVisibility": true,
   "subLayerIds": null,
   "minScale": 39000,
   "maxScale": 38000
  },
  {
   "id": 72,
   "name": "StreetsAnno_600",
   "parentLayerId": -1,
   "defaultVisibility": true,
   "subLayerIds": [
    73
   ],
   "minScale": 700,
   "maxScale": 500
  },
  {
   "id": 73,
   "name": "Default",
   "parentLayerId": 72,
   "defaultVisibility": true,
   "subLayerIds": null,
   "minScale": 0,
   "maxScale": 0
  },
  {
   "id": 74,
   "name": "Parks_Anno_38k_2",
   "parentLayerId": -1,
   "defaultVisibility": true,
   "subLayerIds": [
    75
   ],
   "minScale": 38500,
   "maxScale": 38300
  },
  {
   "id": 75,
   "name": "Default",
   "parentLayerId": 74,
   "defaultVisibility": true,
   "subLayerIds": null,
   "minScale": 0,
   "maxScale": 0
  },
  {
   "id": 76,
   "name": "PSMAnno_19k",
   "parentLayerId": -1,
   "defaultVisibility": true,
   "subLayerIds": [
    77
   ],
   "minScale": 19300,
   "maxScale": 19100
  },
  {
   "id": 77,
   "name": "Default",
   "parentLayerId": 76,
   "defaultVisibility": true,
   "subLayerIds": null,
   "minScale": 0,
   "maxScale": 0
  },
  {
   "id": 78,
   "name": "PSMAnno_9k",
   "parentLayerId": -1,
   "defaultVisibility": true,
   "subLayerIds": [
    79
   ],
   "minScale": 9700,
   "maxScale": 9500
  },
  {
   "id": 79,
   "name": "Default",
   "parentLayerId": 78,
   "defaultVisibility": true,
   "subLayerIds": null,
   "minScale": 0,
   "maxScale": 0
  },
  {
   "id": 80,
   "name": "PSMAnno_4k",
   "parentLayerId": -1,
   "defaultVisibility": true,
   "subLayerIds": [
    81
   ],
   "minScale": 4900,
   "maxScale": 4700
  },
  {
   "id": 81,
   "name": "Default",
   "parentLayerId": 80,
   "defaultVisibility": true,
   "subLayerIds": null,
   "minScale": 0,
   "maxScale": 0
  },
  {
   "id": 82,
   "name": "PSMAnno_2k",
   "parentLayerId": -1,
   "defaultVisibility": true,
   "subLayerIds": [
    83
   ],
   "minScale": 2500,
   "maxScale": 2300
  },
  {
   "id": 83,
   "name": "Default",
   "parentLayerId": 82,
   "defaultVisibility": true,
   "subLayerIds": null,
   "minScale": 0,
   "maxScale": 0
  },
  {
   "id": 84,
   "name": "PSMAnno_1k",
   "parentLayerId": -1,
   "defaultVisibility": true,
   "subLayerIds": [
    85
   ],
   "minScale": 1300,
   "maxScale": 1100
  },
  {
   "id": 85,
   "name": "Default",
   "parentLayerId": 84,
   "defaultVisibility": true,
   "subLayerIds": null,
   "minScale": 0,
   "maxScale": 0
  },
  {
   "id": 86,
   "name": "PSMAnno_600",
   "parentLayerId": -1,
   "defaultVisibility": true,
   "subLayerIds": [
    87
   ],
   "minScale": 700,
   "maxScale": 500
  },
  {
   "id": 87,
   "name": "Default",
   "parentLayerId": 86,
   "defaultVisibility": true,
   "subLayerIds": null,
   "minScale": 0,
   "maxScale": 0
  },
  {
   "id": 88,
   "name": "BuildingsAnno_600",
   "parentLayerId": -1,
   "defaultVisibility": true,
   "subLayerIds": [
    89,
    90
   ],
   "minScale": 700,
   "maxScale": 500
  },
  {
   "id": 89,
   "name": "Principle 2400",
   "parentLayerId": 88,
   "defaultVisibility": true,
   "subLayerIds": null,
   "minScale": 700,
   "maxScale": 500
  },
  {
   "id": 90,
   "name": "Building_Nums",
   "parentLayerId": 88,
   "defaultVisibility": true,
   "subLayerIds": null,
   "minScale": 2500,
   "maxScale": 0
  },
  {
   "id": 91,
   "name": "BuildingsAnno_1k",
   "parentLayerId": -1,
   "defaultVisibility": true,
   "subLayerIds": [
    92,
    93
   ],
   "minScale": 1300,
   "maxScale": 1100
  },
  {
   "id": 92,
   "name": "Principle 2400",
   "parentLayerId": 91,
   "defaultVisibility": true,
   "subLayerIds": null,
   "minScale": 1300,
   "maxScale": 1100
  },
  {
   "id": 93,
   "name": "Building_Nums",
   "parentLayerId": 91,
   "defaultVisibility": true,
   "subLayerIds": null,
   "minScale": 2500,
   "maxScale": 0
  },
  {
   "id": 94,
   "name": "BuildingsAnno_2k",
   "parentLayerId": -1,
   "defaultVisibility": true,
   "subLayerIds": [
    95,
    96
   ],
   "minScale": 2500,
   "maxScale": 2300
  },
  {
   "id": 95,
   "name": "Principle 2400",
   "parentLayerId": 94,
   "defaultVisibility": true,
   "subLayerIds": null,
   "minScale": 2500,
   "maxScale": 2300
  },
  {
   "id": 96,
   "name": "Building_Nums",
   "parentLayerId": 94,
   "defaultVisibility": true,
   "subLayerIds": null,
   "minScale": 2500,
   "maxScale": 0
  },
  {
   "id": 97,
   "name": "Religious_CentersAnno_600",
   "parentLayerId": -1,
   "defaultVisibility": true,
   "subLayerIds": [
    98
   ],
   "minScale": 700,
   "maxScale": 500
  },
  {
   "id": 98,
   "name": "Default",
   "parentLayerId": 97,
   "defaultVisibility": true,
   "subLayerIds": null,
   "minScale": 1300,
   "maxScale": 0
  },
  {
   "id": 99,
   "name": "Religious_CentersAnno_1k",
   "parentLayerId": -1,
   "defaultVisibility": true,
   "subLayerIds": [
    100
   ],
   "minScale": 1300,
   "maxScale": 1100
  },
  {
   "id": 100,
   "name": "Default",
   "parentLayerId": 99,
   "defaultVisibility": true,
   "subLayerIds": null,
   "minScale": 1300,
   "maxScale": 0
  },
  {
   "id": 101,
   "name": "Religious_CentersAnno_2K",
   "parentLayerId": -1,
   "defaultVisibility": true,
   "subLayerIds": [
    102
   ],
   "minScale": 2500,
   "maxScale": 2300
  },
  {
   "id": 102,
   "name": "Default",
   "parentLayerId": 101,
   "defaultVisibility": true,
   "subLayerIds": null,
   "minScale": 4900,
   "maxScale": 0
  },
  {
   "id": 103,
   "name": "Religious_CentersAnno_4k",
   "parentLayerId": -1,
   "defaultVisibility": true,
   "subLayerIds": [
    104
   ],
   "minScale": 4900,
   "maxScale": 4700
  },
  {
   "id": 104,
   "name": "Default",
   "parentLayerId": 103,
   "defaultVisibility": true,
   "subLayerIds": null,
   "minScale": 4900,
   "maxScale": 0
  }
 ],
 "tables": [],
 "spatialReference": {
  "wkid": 2253,
  "latestWkid": 2253
 },
 "singleFusedMapCache": true,
 "tileInfo": {
  "rows": 256,
  "cols": 256,
  "dpi": 96,
  "format": "PNG32",
  "compressionQuality": 0,
  "origin": {
   "x": -107138600,
   "y": 1.4333010000000003E8
  },
  "spatialReference": {
   "wkid": 2253,
   "latestWkid": 2253
  },
  "lods": [
   {
    "level": 0,
    "resolution": 81.59738541699305,
    "scale": 94000
   },
   {
    "level": 1,
    "resolution": 47.74315104185764,
    "scale": 55000
   },
   {
    "level": 2,
    "resolution": 33.33340000013333,
    "scale": 38400
   },
   {
    "level": 3,
    "resolution": 16.666700000066665,
    "scale": 19200
   },
   {
    "level": 4,
    "resolution": 8.333350000033333,
    "scale": 9600
   },
   {
    "level": 5,
    "resolution": 4.166675000016666,
    "scale": 4800
   },
   {
    "level": 6,
    "resolution": 2.083337500008333,
    "scale": 2400
   },
   {
    "level": 7,
    "resolution": 1.0416687500041666,
    "scale": 1200
   },
   {
    "level": 8,
    "resolution": 0.5208343750020833,
    "scale": 600
   }
  ]
 },
 "initialExtent": {
  "xmin": 1.292913941585331E7,
  "ymin": 399418.27908596635,
  "xmax": 1.3187541791495766E7,
  "ymax": 467610.6053126752,
  "spatialReference": {
   "wkid": 2253,
   "latestWkid": 2253
  }
 },
 "fullExtent": {
  "xmin": 1.2941703491797894E7,
  "ymin": 343339.4265091866,
  "xmax": 1.3174977715551183E7,
  "ymax": 462174.7185039371,
  "spatialReference": {
   "wkid": 2253,
   "latestWkid": 2253
  }
 },
 "minScale": 94000,
 "maxScale": 600,
 "units": "esriFeet",
 "supportedImageFormatTypes": "PNG32,PNG24,PNG,JPG,DIB,TIFF,EMF,PS,PDF,GIF,SVG,SVGZ,BMP",
 "documentInfo": {
  "Title": "Labels",
  "Author": "Darryl",
  "Comments": "Layer for public website of cached map labels.",
  "Subject": "Cached Labels",
  "Category": "",
  "AntialiasingMode": "None",
  "TextAntialiasingMode": "Force",
  "Keywords": "labels"
 },
 "capabilities": "Map,Query,Data",
 "supportedQueryFormats": "JSON, AMF, geoJSON",
 "hasVersionedData": true,
 "exportTilesAllowed": false,
 "datumTransformations": [
  {
   "geoTransforms": [
    {
     "wkid": 108001,
     "latestWkid": 1241,
     "transformForward": true,
     "name": "NAD_1927_To_NAD_1983_NADCON"
    }
   ]
  },
  {
   "geoTransforms": [
    {
     "wkid": 108001,
     "latestWkid": 1241,
     "transformForward": false,
     "name": "NAD_1927_To_NAD_1983_NADCON"
    }
   ]
  }
 ],
 "supportsDatumTransformation": true,
 "maxRecordCount": 1000,
 "maxImageHeight": 4096,
 "maxImageWidth": 4096,
 "supportedExtensions": "KmlServer"
}
