{
 "currentVersion": 10.6,
 "serviceDescription": "",
 "mapName": "Layers",
 "description": "",
 "copyrightText": "",
 "supportsDynamicLayers": false,
 "layers": [
  {
   "id": 0,
   "name": "Tri_County_Flight",
   "parentLayerId": -1,
   "defaultVisibility": true,
   "subLayerIds": null,
   "minScale": 0,
   "maxScale": 0
  }
 ],
 "tables": [],
 "spatialReference": {"wkt": "PROJCS[\"NAD_1983_StatePlane_Michigan_South_FIPS_2113\",GEOGCS[\"GCS_North_American_1983\",DATUM[\"D_North_American_1983\",SPHEROID[\"GRS_1980\",6378137.0,298.257222101]],PRIMEM[\"Greenwich\",0.0],UNIT[\"Degree\",0.0174532925199433]],PROJECTION[\"Lambert_Conformal_Conic\"],PARAMETER[\"False_Easting\",13123359.58005249],PARAMETER[\"False_Northing\",0.0],PARAMETER[\"Central_Meridian\",-84.36666666666666],PARAMETER[\"Standard_Parallel_1\",42.1],PARAMETER[\"Standard_Parallel_2\",43.66666666666666],PARAMETER[\"Latitude_Of_Origin\",41.5],UNIT[\"Foot\",0.3048]]"},
 "singleFusedMapCache": true,
 "tileInfo": {
  "rows": 256,
  "cols": 256,
  "dpi": 96,
  "format": "JPEG",
  "compressionQuality": 85,
  "origin": {
   "x": -107138600,
   "y": 143330100
  },
  "spatialReference": {"wkt": "PROJCS[\"NAD_1983_StatePlane_Michigan_South_FIPS_2113\",GEOGCS[\"GCS_North_American_1983\",DATUM[\"D_North_American_1983\",SPHEROID[\"GRS_1980\",6378137.0,298.257222101]],PRIMEM[\"Greenwich\",0.0],UNIT[\"Degree\",0.0174532925199433]],PROJECTION[\"Lambert_Conformal_Conic\"],PARAMETER[\"False_Easting\",13123359.58005249],PARAMETER[\"False_Northing\",0.0],PARAMETER[\"Central_Meridian\",-84.36666666666666],PARAMETER[\"Standard_Parallel_1\",42.1],PARAMETER[\"Standard_Parallel_2\",43.66666666666666],PARAMETER[\"Latitude_Of_Origin\",41.5],UNIT[\"Foot\",0.3048]]"},
  "lods": [
   {
    "level": 0,
    "resolution": 81.59738541699305,
    "scale": 94000
   },
   {
    "level": 1,
    "resolution": 47.74315104185764,
    "scale": 55000
   },
   {
    "level": 2,
    "resolution": 33.33340000013333,
    "scale": 38400
   },
   {
    "level": 3,
    "resolution": 16.666700000066665,
    "scale": 19200
   },
   {
    "level": 4,
    "resolution": 8.333350000033333,
    "scale": 9600
   },
   {
    "level": 5,
    "resolution": 4.166675000016666,
    "scale": 4800
   },
   {
    "level": 6,
    "resolution": 2.083337500008333,
    "scale": 2400
   },
   {
    "level": 7,
    "resolution": 1.0416687500041666,
    "scale": 1200
   },
   {
    "level": 8,
    "resolution": 0.5208343750020833,
    "scale": 600
   }
  ]
 },
 "initialExtent": {
  "xmin": 1.304932785972552E7,
  "ymin": 409142.4504499105,
  "xmax": 1.310322785972552E7,
  "ymax": 434638.006005466,
  "spatialReference": {"wkt": "PROJCS[\"NAD_1983_StatePlane_Michigan_South_FIPS_2113\",GEOGCS[\"GCS_North_American_1983\",DATUM[\"D_North_American_1983\",SPHEROID[\"GRS_1980\",6378137.0,298.257222101]],PRIMEM[\"Greenwich\",0.0],UNIT[\"Degree\",0.0174532925199433]],PROJECTION[\"Lambert_Conformal_Conic\"],PARAMETER[\"False_Easting\",13123359.58005249],PARAMETER[\"False_Northing\",0.0],PARAMETER[\"Central_Meridian\",-84.36666666666666],PARAMETER[\"Standard_Parallel_1\",42.1],PARAMETER[\"Standard_Parallel_2\",43.66666666666666],PARAMETER[\"Latitude_Of_Origin\",41.5],UNIT[\"Foot\",0.3048]]"}
 },
 "fullExtent": {
  "xmin": 1.305752785972552E7,
  "ymin": 397888.006005466,
  "xmax": 1.309502785972552E7,
  "ymax": 432888.006005466,
  "spatialReference": {"wkt": "PROJCS[\"NAD_1983_StatePlane_Michigan_South_FIPS_2113\",GEOGCS[\"GCS_North_American_1983\",DATUM[\"D_North_American_1983\",SPHEROID[\"GRS_1980\",6378137.0,298.257222101]],PRIMEM[\"Greenwich\",0.0],UNIT[\"Degree\",0.0174532925199433]],PROJECTION[\"Lambert_Conformal_Conic\"],PARAMETER[\"False_Easting\",13123359.58005249],PARAMETER[\"False_Northing\",0.0],PARAMETER[\"Central_Meridian\",-84.36666666666666],PARAMETER[\"Standard_Parallel_1\",42.1],PARAMETER[\"Standard_Parallel_2\",43.66666666666666],PARAMETER[\"Latitude_Of_Origin\",41.5],UNIT[\"Foot\",0.3048]]"}
 },
 "minScale": 94000,
 "maxScale": 600,
 "units": "esriFeet",
 "supportedImageFormatTypes": "PNG32,PNG24,PNG,JPG,DIB,TIFF,EMF,PS,PDF,GIF,SVG,SVGZ,BMP",
 "documentInfo": {
  "Title": "",
  "Author": "",
  "Comments": "",
  "Subject": "",
  "Category": "",
  "AntialiasingMode": "None",
  "TextAntialiasingMode": "Force",
  "Keywords": ""
 },
 "capabilities": "Map,Query,Data",
 "supportedQueryFormats": "JSON, AMF, geoJSON",
 "exportTilesAllowed": false,
 "datumTransformations": [
  {
   "geoTransforms": [
    {
     "wkid": 108001,
     "latestWkid": 1241,
     "transformForward": true,
     "name": "NAD_1927_To_NAD_1983_NADCON"
    }
   ]
  },
  {
   "geoTransforms": [
    {
     "wkid": 108001,
     "latestWkid": 1241,
     "transformForward": false,
     "name": "NAD_1927_To_NAD_1983_NADCON"
    }
   ]
  }
 ],
 "supportsDatumTransformation": true,
 "maxRecordCount": 1000,
 "maxImageHeight": 4096,
 "maxImageWidth": 4096,
 "supportedExtensions": "KmlServer"
}