{
 "currentVersion": 10.6,
 "serviceDescription": "",
 "mapName": "Layers",
 "description": "",
 "copyrightText": "",
 "supportsDynamicLayers": false,
 "layers": [
  {
   "id": 0,
   "name": "Drain_Commission_Flight",
   "parentLayerId": -1,
   "defaultVisibility": true,
   "subLayerIds": null,
   "minScale": 0,
   "maxScale": 0
  }
 ],
 "tables": [],
 "spatialReference": {
  "wkt": "PROJCS[\"NAD83 / Michigan South\",GEOGCS[\"GCS_North_American_1983\",DATUM[\"D_North_American_1983\",SPHEROID[\"GRS_1980\",6378137.0,298.257222101]],PRIMEM[\"Greenwich\",0.0],UNIT[\"Degree\",0.0174532925199433]],PROJECTION[\"Lambert_Conformal_Conic\"],PARAMETER[\"false_easting\",13123359.58005249],PARAMETER[\"false_northing\",0.0],PARAMETER[\"central_meridian\",-84.36666666666675],PARAMETER[\"standard_parallel_1\",42.1],PARAMETER[\"standard_parallel_2\",43.66666666666671],PARAMETER[\"latitude_of_origin\",41.5],UNIT[\"Foot\",0.3048]]"
 },
 "singleFusedMapCache": true,
 "tileInfo": {
  "rows": 256,
  "cols": 256,
  "dpi": 96,
  "format": "JPEG",
  "compressionQuality": 85,
  "origin": {
   "x": -107138600,
   "y": 143330100
  },
  "spatialReference": {
   "wkt": "PROJCS[\"NAD83 / Michigan South\",GEOGCS[\"GCS_North_American_1983\",DATUM[\"D_North_American_1983\",SPHEROID[\"GRS_1980\",6378137.0,298.257222101]],PRIMEM[\"Greenwich\",0.0],UNIT[\"Degree\",0.0174532925199433]],PROJECTION[\"Lambert_Conformal_Conic\"],PARAMETER[\"false_easting\",13123359.58005249],PARAMETER[\"false_northing\",0.0],PARAMETER[\"central_meridian\",-84.36666666666675],PARAMETER[\"standard_parallel_1\",42.1],PARAMETER[\"standard_parallel_2\",43.66666666666671],PARAMETER[\"latitude_of_origin\",41.5],UNIT[\"Foot\",0.3048]]"
  },
  "lods": [
   {
    "level": 0,
    "resolution": 81.59738541699305,
    "scale": 94000
   },
   {
    "level": 1,
    "resolution": 47.74315104185764,
    "scale": 55000
   },
   {
    "level": 2,
    "resolution": 33.33340000013333,
    "scale": 38400
   },
   {
    "level": 3,
    "resolution": 16.666700000066665,
    "scale": 19200
   },
   {
    "level": 4,
    "resolution": 8.333350000033333,
    "scale": 9600
   },
   {
    "level": 5,
    "resolution": 4.166675000016666,
    "scale": 4800
   },
   {
    "level": 6,
    "resolution": 2.083337500008333,
    "scale": 2400
   },
   {
    "level": 7,
    "resolution": 1.0416687500041666,
    "scale": 1200
   },
   {
    "level": 8,
    "resolution": 0.5208343750020833,
    "scale": 600
   }
  ]
 },
 "initialExtent": {
  "xmin": 1.3050858614614427E7,
  "ymin": 409776.18644990784,
  "xmax": 1.3100485104836665E7,
  "ymax": 432937.8060054708,
  "spatialReference": {
   "wkt": "PROJCS[\"NAD83 / Michigan South\",GEOGCS[\"GCS_North_American_1983\",DATUM[\"D_North_American_1983\",SPHEROID[\"GRS_1980\",6378137.0,298.257222101]],PRIMEM[\"Greenwich\",0.0],UNIT[\"Degree\",0.0174532925199433]],PROJECTION[\"Lambert_Conformal_Conic\"],PARAMETER[\"false_easting\",13123359.58005249],PARAMETER[\"false_northing\",0.0],PARAMETER[\"central_meridian\",-84.36666666666675],PARAMETER[\"standard_parallel_1\",42.1],PARAMETER[\"standard_parallel_2\",43.66666666666671],PARAMETER[\"latitude_of_origin\",41.5],UNIT[\"Foot\",0.3048]]"
  }
 },
 "fullExtent": {
  "xmin": 1.3059355859725542E7,
  "ymin": 399552.006005469,
  "xmax": 1.3091987859725546E7,
  "ymax": 431348.0060054765,
  "spatialReference": {
   "wkt": "PROJCS[\"NAD83 / Michigan South\",GEOGCS[\"GCS_North_American_1983\",DATUM[\"D_North_American_1983\",SPHEROID[\"GRS_1980\",6378137.0,298.257222101]],PRIMEM[\"Greenwich\",0.0],UNIT[\"Degree\",0.0174532925199433]],PROJECTION[\"Lambert_Conformal_Conic\"],PARAMETER[\"false_easting\",13123359.58005249],PARAMETER[\"false_northing\",0.0],PARAMETER[\"central_meridian\",-84.36666666666675],PARAMETER[\"standard_parallel_1\",42.1],PARAMETER[\"standard_parallel_2\",43.66666666666671],PARAMETER[\"latitude_of_origin\",41.5],UNIT[\"Foot\",0.3048]]"
  }
 },
 "minScale": 94000,
 "maxScale": 600,
 "units": "esriFeet",
 "supportedImageFormatTypes": "PNG32,PNG24,PNG,JPG,DIB,TIFF,EMF,PS,PDF,GIF,SVG,SVGZ,BMP",
 "documentInfo": {
  "Title": "Aerial_Imagery_2003",
  "Author": "Darryl",
  "Comments": "",
  "Subject": "",
  "Category": "",
  "AntialiasingMode": "None",
  "TextAntialiasingMode": "None",
  "Keywords": ""
 },
 "capabilities": "Map,Query,Data",
 "supportedQueryFormats": "JSON, AMF, geoJSON",
 "exportTilesAllowed": false,
 "datumTransformations": [
  {
   "geoTransforms": [
    {
     "wkid": 108001,
     "latestWkid": 1241,
     "transformForward": true,
     "name": "NAD_1927_To_NAD_1983_NADCON"
    }
   ]
  },
  {
   "geoTransforms": [
    {
     "wkid": 108001,
     "latestWkid": 1241,
     "transformForward": false,
     "name": "NAD_1927_To_NAD_1983_NADCON"
    }
   ]
  }
 ],
 "supportsDatumTransformation": true,
 "maxRecordCount": 1000,
 "maxImageHeight": 4096,
 "maxImageWidth": 4096,
 "supportedExtensions": "KmlServer"
}
